BEGIN:VCALENDAR
VERSION:2.0
PRODID:-//wp-events-plugin.com//7.2.3.1//EN
BEGIN:VEVENT
UID:1437@jclytham.church
DTSTART;TZID=Europe/London:20250912T193000
DTEND;TZID=Europe/London:20250912T203000
DTSTAMP:20250824T170633Z
URL:https://jclytham.church/events/anchored-in-faith-in-concert/
SUMMARY:Anchored in Faith in Concert
DESCRIPTION:\n\nWe are graced with the inimitable Lytham Community Choir an
 d their conductor Graham Warrington\, who always promise an excellent even
 ing.\n\nThey will be supported by Kerry Rogers.\n\nEntry is free.\nThis is
  part of our Anchored in Faith mission weekend.
ATTACH;FMTTYPE=image/jpeg:https://i0.wp.com/jclytham.church/wp-content/upl
 oads/2025/08/AiF_Concert-Rogers-correction-1.jpg?fit=1080%2C1522&ssl=1
CATEGORIES:Anchored in Faith,Social
LOCATION:St Cuthberts Church\, Church Road\, Lytham\, Lancashire\, FY8 5QL\
 , United Kingdom
X-APPLE-STRUCTURED-LOCATION;VALUE=URI;X-ADDRESS=Church Road\, Lytham\, Lanc
 ashire\, FY8 5QL\, United Kingdom;X-APPLE-RADIUS=100;X-TITLE=St Cuthberts 
 Church:geo:0,0
END:VEVENT
BEGIN:VTIMEZONE
TZID:Europe/London
X-LIC-LOCATION:Europe/London
BEGIN:DAYLIGHT
DTSTART:20250330T020000
TZOFFSETFROM:+0000
TZOFFSETTO:+0100
TZNAME:BST
END:DAYLIGHT
END:VTIMEZONE
END:VCALENDAR