BEGIN:VCALENDAR
VERSION:2.0
PRODID:-//wp-events-plugin.com//7.2.3.1//EN
BEGIN:VEVENT
UID:997@jclytham.church
DTSTART:20240121T103000Z
DTEND:20240121T113000Z
DTSTAMP:20240103T110608Z
URL:https://jclytham.church/events/churches-in-lytham-covenant-service-2/
SUMMARY:Churches in Lytham Covenant Service
DESCRIPTION:Our annual Churches in Lytham Covenant Service this year will b
 e at St Peter's church.\n\nPlease note there will be no 10:15am service at
  either St Cuthberts church or St John the Divine today.
ATTACH;FMTTYPE=image/jpeg:https://i0.wp.com/jclytham.church/wp-content/upl
 oads/2023/01/Windmill.jpg?fit=1200%2C628&ssl=1
CATEGORIES:Service
LOCATION:St Peter's Church\, Clifton Street\, Lytham\, Lancashire\, FY8 5EP
 \, United Kingdom
X-APPLE-STRUCTURED-LOCATION;VALUE=URI;X-ADDRESS=Clifton Street\, Lytham\, L
 ancashire\, FY8 5EP\, United Kingdom;X-APPLE-RADIUS=100;X-TITLE=St Peter's
  Church:geo:0,0
END:VEVENT
END:VCALENDAR