BEGIN:VCALENDAR
VERSION:2.0
PRODID:-//wp-events-plugin.com//7.2.3.1//EN
BEGIN:VEVENT
UID:445@jclytham.church
DTSTART;TZID=Europe/London:20230527T100000
DTEND;TZID=Europe/London:20230527T140000
DTSTAMP:20230523T100506Z
URL:https://jclytham.church/events/coffee-morning-2-2023-05-27/
SUMMARY:Coffee Morning
DESCRIPTION:Join us for our monthly coffee morning at St Cuhberts church\, 
 but this month is a little different.\n\nIn the spirit of Thy Kingdom Come
  \, our Coffee Morning this month will run from 10 am to 2 pm instead of t
 he usual noon finish. We hope to spend this time together and contribute t
 o the global wave of prayer.\n\nThere will be hot and cold drinks\, homema
 de cakes\, a raffle\, and a selection of stalls. A light lunch will also b
 e available to buy\, including sandwiches and homemade scones.\n\nWe are a
 lso looking for any volunteers who would be willing to help out on the day
 . If you'd like to get involved\, please contact Debbie .\n\nAll are welco
 me! We hope you can join us.\n\n
ATTACH;FMTTYPE=image/jpeg:https://i0.wp.com/jclytham.church/wp-content/upl
 oads/2023/03/tea.jpg?fit=1228%2C760&ssl=1
CATEGORIES:Fundraising,Social
LOCATION:St Cuthberts Church\, Church Road\, Lytham\, Lancashire\, FY8 5QL\
 , United Kingdom
X-APPLE-STRUCTURED-LOCATION;VALUE=URI;X-ADDRESS=Church Road\, Lytham\, Lanc
 ashire\, FY8 5QL\, United Kingdom;X-APPLE-RADIUS=100;X-TITLE=St Cuthberts 
 Church:geo:0,0
END:VEVENT
BEGIN:VTIMEZONE
TZID:Europe/London
X-LIC-LOCATION:Europe/London
BEGIN:DAYLIGHT
DTSTART:20230326T020000
TZOFFSETFROM:+0000
TZOFFSETTO:+0100
TZNAME:BST
END:DAYLIGHT
END:VTIMEZONE
END:VCALENDAR