BEGIN:VCALENDAR
VERSION:2.0
PRODID:-//wp-events-plugin.com//7.2.3.1//EN
BEGIN:VEVENT
UID:440@jclytham.church
DTSTART;TZID=Europe/London:20230225T100000
DTEND;TZID=Europe/London:20230225T120000
DTSTAMP:20230215T165107Z
URL:https://jclytham.church/events/fairtrade-big-brew-coffee-morning/
SUMMARY:Fairtrade 'Big Brew' Coffee Morning
DESCRIPTION:\nWe have a Fairtrade 'Big Brew' coffee morning at St Cuthbert'
 s Church on 25 February from 10 am - 12 noon\, everyone is very welcome an
 d we are including a quiz. \n\n\n\nFairtrade's focus this year is on tea\,
  coffee and chocolate\, considering how producers are increasingly challen
 ged in growing the crops that we take for granted. Sadly trade in these go
 ods is riddled with exploitation\, abuse and environmental damage\, howeve
 r\, there are stories of hope. On the morning there will be an opportunity
  to learn more. \n\n\n\nWe would love donations for the raffle and the cak
 e stall and request that you please try and include a fairtrade ingredient
  and list all ingredients ). All monies will be shared between Transform T
 rade and our parish.\n\n\n\n\n
ATTACH;FMTTYPE=image/jpeg:https://i0.wp.com/jclytham.church/wp-content/upl
 oads/2023/02/Fairtrade-Coffee-Morning.jpg?fit=1200%2C628&ssl=1
CATEGORIES:Fundraising,Social
LOCATION:St Cuthberts Church\, Church Road\, Lytham\, Lancashire\, FY8 5QL\
 , United Kingdom
X-APPLE-STRUCTURED-LOCATION;VALUE=URI;X-ADDRESS=Church Road\, Lytham\, Lanc
 ashire\, FY8 5QL\, United Kingdom;X-APPLE-RADIUS=100;X-TITLE=St Cuthberts 
 Church:geo:0,0
END:VEVENT
BEGIN:VTIMEZONE
TZID:Europe/London
X-LIC-LOCATION:Europe/London
BEGIN:STANDARD
DTSTART:20221030T010000
TZOFFSETFROM:+0100
TZOFFSETTO:+0000
TZNAME:GMT
END:STANDARD
END:VTIMEZONE
END:VCALENDAR