BEGIN:VCALENDAR
VERSION:2.0
PRODID:-//wp-events-plugin.com//7.2.3.1//EN
BEGIN:VEVENT
UID:1439@jclytham.church
DTSTART;TZID=Europe/London:20250913T110000
DTEND;TZID=Europe/London:20250913T140000
DTSTAMP:20250810T183711Z
URL:https://jclytham.church/events/family-fun-day/
SUMMARY:Family Fun Day
DESCRIPTION:\n\nWe're excited to host a Family Fun Day on Saturday 13th Sep
 tember\, from 11am to 2pm\, at St John's church.\n\nThere will be a bouncy
  castle\, face painting\, a BBQ\, live music\, and more!\n\nAll are welcom
 e. Children must be accompanied by an adult.\n\nEntry is free.\nThis is pa
 rt of our Anchored in Faith mission weekend.
ATTACH;FMTTYPE=image/jpeg:https://i0.wp.com/jclytham.church/wp-content/upl
 oads/2025/08/funday_featured.webp?fit=1200%2C628&ssl=1
CATEGORIES:Anchored in Faith,Children,Social
LOCATION:St John the Divine\, 24A East Beach\, Lytham\, Lancashire\, FY8 5E
 X\, United Kingdom
X-APPLE-STRUCTURED-LOCATION;VALUE=URI;X-ADDRESS=24A East Beach\, Lytham\, L
 ancashire\, FY8 5EX\, United Kingdom;X-APPLE-RADIUS=100;X-TITLE=St John th
 e Divine:geo:0,0
END:VEVENT
BEGIN:VTIMEZONE
TZID:Europe/London
X-LIC-LOCATION:Europe/London
BEGIN:DAYLIGHT
DTSTART:20250330T020000
TZOFFSETFROM:+0000
TZOFFSETTO:+0100
TZNAME:BST
END:DAYLIGHT
END:VTIMEZONE
END:VCALENDAR