BEGIN:VCALENDAR
VERSION:2.0
PRODID:-//wp-events-plugin.com//7.2.3.1//EN
BEGIN:VEVENT
UID:346@jclytham.church
DTSTART;TZID=Europe/London:20230319T101500
DTEND;TZID=Europe/London:20230319T111500
DTSTAMP:20230215T155148Z
URL:https://jclytham.church/events/holy-communion-15-2023-03-19/
SUMMARY:Doug Horley at St Cuthberts
DESCRIPTION:For our family-friendly worship this month\, will be joined at 
 St Cuthberts Church by Doug 'Duggie Dug Dug' Horley.\n\nThere will be no c
 ommunion at this service. If you would like to receive communion\, please 
 see the service at St John the Divine.
ATTACH;FMTTYPE=image/jpeg:https://i0.wp.com/jclytham.church/wp-content/upl
 oads/2023/01/ddd.jpg?fit=1200%2C628&ssl=1
CATEGORIES:Service
LOCATION:St Cuthberts Church\, Church Road\, Lytham\, Lancashire\, FY8 5QL\
 , United Kingdom
X-APPLE-STRUCTURED-LOCATION;VALUE=URI;X-ADDRESS=Church Road\, Lytham\, Lanc
 ashire\, FY8 5QL\, United Kingdom;X-APPLE-RADIUS=100;X-TITLE=St Cuthberts 
 Church:geo:0,0
END:VEVENT
BEGIN:VTIMEZONE
TZID:Europe/London
X-LIC-LOCATION:Europe/London
BEGIN:STANDARD
DTSTART:20221030T010000
TZOFFSETFROM:+0100
TZOFFSETTO:+0000
TZNAME:GMT
END:STANDARD
END:VTIMEZONE
END:VCALENDAR