BEGIN:VCALENDAR
VERSION:2.0
PRODID:-//wp-events-plugin.com//7.2.3.1//EN
BEGIN:VEVENT
UID:1923@jclytham.church
DTSTART;TZID=Europe/London:20260403T103000
DTEND;TZID=Europe/London:20260403T123000
DTSTAMP:20260331T132608Z
URL:https://jclytham.church/events/messy-easter-2/
SUMMARY:Messy Easter
DESCRIPTION:\nA fun morning of creative crafts\, challenges\, and an Easter
  egg hunt as we learn about that first Easter Day. Suitable for pre-school
 ers to pre-teens.\nBook your place here .\n
ATTACH;FMTTYPE=image/jpeg:https://i0.wp.com/jclytham.church/wp-content/upl
 oads/2023/04/freestocks-Vb3bjAhfO2Q-unsplash-scaled.jpg?fit=2560%2C1706&ss
 l=1
CATEGORIES:Children,Social,Ticketed
LOCATION:St Cuthberts Church\, Church Road\, Lytham\, Lancashire\, FY8 5QL\
 , United Kingdom
X-APPLE-STRUCTURED-LOCATION;VALUE=URI;X-ADDRESS=Church Road\, Lytham\, Lanc
 ashire\, FY8 5QL\, United Kingdom;X-APPLE-RADIUS=100;X-TITLE=St Cuthberts 
 Church:geo:0,0
END:VEVENT
BEGIN:VTIMEZONE
TZID:Europe/London
X-LIC-LOCATION:Europe/London
BEGIN:DAYLIGHT
DTSTART:20260329T020000
TZOFFSETFROM:+0000
TZOFFSETTO:+0100
TZNAME:BST
END:DAYLIGHT
END:VTIMEZONE
END:VCALENDAR