BEGIN:VCALENDAR
VERSION:2.0
PRODID:-//wp-events-plugin.com//7.2.3.1//EN
BEGIN:VEVENT
UID:704@jclytham.church
DTSTART:20251225T101500Z
DTEND:20251225T111500Z
DTSTAMP:20251130T162030Z
URL:https://jclytham.church/events/st-cuthbert-christmas-communion/
SUMMARY:Christmas Communion
DESCRIPTION:A very happy Christmas to all!\n\nJoin us for our Christmas Com
 munion service at St Cuthberts Church.
ATTACH;FMTTYPE=image/jpeg:https://i0.wp.com/jclytham.church/wp-content/upl
 oads/2022/10/kelly-sikkema-57_H5y498Yk-unsplash-scaled.jpg?fit=2560%2C1707
 &ssl=1
CATEGORIES:Service
LOCATION:St Cuthberts Church\, Church Road\, Lytham\, Lancashire\, FY8 5QL\
 , United Kingdom
X-APPLE-STRUCTURED-LOCATION;VALUE=URI;X-ADDRESS=Church Road\, Lytham\, Lanc
 ashire\, FY8 5QL\, United Kingdom;X-APPLE-RADIUS=100;X-TITLE=St Cuthberts 
 Church:geo:0,0
END:VEVENT
END:VCALENDAR